BEGIN:VCALENDAR
VERSION:2.0
PRODID:-//El Filo Dorado - ECPv6.15.17.1//NONSGML v1.0//EN
CALSCALE:GREGORIAN
METHOD:PUBLISH
X-ORIGINAL-URL:https://elfilodorado.com
X-WR-CALDESC:Eventos para El Filo Dorado
REFRESH-INTERVAL;VALUE=DURATION:PT1H
X-Robots-Tag:noindex
X-PUBLISHED-TTL:PT1H
BEGIN:VTIMEZONE
TZID:Europe/Paris
BEGIN:DAYLIGHT
TZOFFSETFROM:+0100
TZOFFSETTO:+0200
TZNAME:CEST
DTSTART:20220327T010000
END:DAYLIGHT
BEGIN:STANDARD
TZOFFSETFROM:+0200
TZOFFSETTO:+0100
TZNAME:CET
DTSTART:20221030T010000
END:STANDARD
BEGIN:DAYLIGHT
TZOFFSETFROM:+0100
TZOFFSETTO:+0200
TZNAME:CEST
DTSTART:20230326T010000
END:DAYLIGHT
BEGIN:STANDARD
TZOFFSETFROM:+0200
TZOFFSETTO:+0100
TZNAME:CET
DTSTART:20231029T010000
END:STANDARD
BEGIN:DAYLIGHT
TZOFFSETFROM:+0100
TZOFFSETTO:+0200
TZNAME:CEST
DTSTART:20240331T010000
END:DAYLIGHT
BEGIN:STANDARD
TZOFFSETFROM:+0200
TZOFFSETTO:+0100
TZNAME:CET
DTSTART:20241027T010000
END:STANDARD
BEGIN:DAYLIGHT
TZOFFSETFROM:+0100
TZOFFSETTO:+0200
TZNAME:CEST
DTSTART:20250330T010000
END:DAYLIGHT
BEGIN:STANDARD
TZOFFSETFROM:+0200
TZOFFSETTO:+0100
TZNAME:CET
DTSTART:20251026T010000
END:STANDARD
END:VTIMEZONE
BEGIN:VTIMEZONE
TZID:UTC
BEGIN:STANDARD
TZOFFSETFROM:+0000
TZOFFSETTO:+0000
TZNAME:UTC
DTSTART:20220101T000000
END:STANDARD
END:VTIMEZONE
BEGIN:VEVENT
DTSTART;TZID=Europe/Paris:20240221T193000
DTEND;TZID=Europe/Paris:20240221T203000
DTSTAMP:20260424T101216
CREATED:20240220T104443Z
LAST-MODIFIED:20240220T104443Z
UID:2860-1708543800-1708547400@elfilodorado.com
SUMMARY:Yoga vinyasa
DESCRIPTION:
URL:https://elfilodorado.com/taller/yoga-vinyasa-3
LOCATION:ELFILODORADO\, Avenida Alcalde García Acien\, 88\, El Ejido (Almería)\, almeria\, 04700\, Spain
END:VEVENT
BEGIN:VEVENT
DTSTART;TZID=Europe/Paris:20240216T190000
DTEND;TZID=Europe/Paris:20240216T210000
DTSTAMP:20260424T101216
CREATED:20240206T114328Z
LAST-MODIFIED:20240206T114357Z
UID:2832-1708110000-1708117200@elfilodorado.com
SUMMARY:Baños de Gong\, liberando los miedos
DESCRIPTION:⭕ Liberando el miedo ⭕ \nNuevas sesiones temáticas con Gongs y cuencos de cuarzoLa sesión constará de parte teórica y parte práctica\nEn la teoría veremos\n✅Introducción-Que es el miedo y en la parte práctica\n✅Pranayama ( respiración)para equilibrio de emociones\n✅Meditación liberando el miedo\nY para integrar todo\n✅Baño sonoro con Gongs y cuencos de Cuarzo📖 Te llevarás en papel la meditación y el pranayama para que puedas seguir trabajando con ellos\nLa duración de la sesión será de 1:30 horas\nAportación 18€Reservas\n☎ Carlos 603 652 606\n☎ Jenifer 648 718 703
URL:https://elfilodorado.com/taller/banos-de-gong-liberando-los-miedos
LOCATION:ELFILODORADO\, Avenida Alcalde García Acien\, 88\, El Ejido (Almería)\, almeria\, 04700\, Spain
END:VEVENT
BEGIN:VEVENT
DTSTART;TZID=Europe/Paris:20240208T160000
DTEND;TZID=Europe/Paris:20240208T200000
DTSTAMP:20260424T101216
CREATED:20240124T100919Z
LAST-MODIFIED:20240124T100919Z
UID:2816-1707408000-1707422400@elfilodorado.com
SUMMARY:Constelaciones familiares
DESCRIPTION:
URL:https://elfilodorado.com/taller/constelaciones-familiares-3
LOCATION:ELFILODORADO\, Avenida Alcalde García Acien\, 88\, El Ejido (Almería)\, almeria\, 04700\, Spain
END:VEVENT
BEGIN:VEVENT
DTSTART;TZID=Europe/Paris:20240207T193000
DTEND;TZID=Europe/Paris:20240207T203000
DTSTAMP:20260424T101216
CREATED:20240206T122907Z
LAST-MODIFIED:20240206T122907Z
UID:2844-1707334200-1707337800@elfilodorado.com
SUMMARY:Yoga Vinyasa
DESCRIPTION:Puedes asistir a una clase suelta 7€ o mes completo 35€.
URL:https://elfilodorado.com/taller/yoga-vinyasa-2
LOCATION:ELFILODORADO\, Avenida Alcalde García Acien\, 88\, El Ejido (Almería)\, almeria\, 04700\, Spain
END:VEVENT
BEGIN:VEVENT
DTSTART;TZID=Europe/Paris:20240203T103000
DTEND;TZID=Europe/Paris:20240203T133000
DTSTAMP:20260424T101216
CREATED:20240124T101745Z
LAST-MODIFIED:20240124T101745Z
UID:2820-1706956200-1706967000@elfilodorado.com
SUMMARY:Taller Biodanza\, conecta con tu niño interior.
DESCRIPTION:
URL:https://elfilodorado.com/taller/taller-biodanza-conecta-con-tu-nino-interior
LOCATION:ELFILODORADO\, Avenida Alcalde García Acien\, 88\, El Ejido (Almería)\, almeria\, 04700\, Spain
END:VEVENT
BEGIN:VEVENT
DTSTART;TZID=Europe/Paris:20240131T193000
DTEND;TZID=Europe/Paris:20240131T203000
DTSTAMP:20260424T101216
CREATED:20240124T102719Z
LAST-MODIFIED:20240124T102719Z
UID:2828-1706729400-1706733000@elfilodorado.com
SUMMARY:yoga Vinyansa
DESCRIPTION:clase suelta 7€\, mes completo 35€.
URL:https://elfilodorado.com/taller/yoga-vinyansa-2
LOCATION:almeria
END:VEVENT
BEGIN:VEVENT
DTSTART;TZID=Europe/Paris:20240129T193000
DTEND;TZID=Europe/Paris:20240129T203000
DTSTAMP:20260424T101216
CREATED:20240124T102517Z
LAST-MODIFIED:20240124T102517Z
UID:2826-1706556600-1706560200@elfilodorado.com
SUMMARY:yoga vinyansa
DESCRIPTION:Clase suelta 7€\, mes completo 35€.
URL:https://elfilodorado.com/taller/yoga-vinyansa
LOCATION:ELFILODORADO\, Avenida Alcalde García Acien\, 88\, El Ejido (Almería)\, almeria\, 04700\, Spain
END:VEVENT
BEGIN:VEVENT
DTSTART;TZID=Europe/Paris:20240112T190000
DTEND;TZID=Europe/Paris:20240112T203000
DTSTAMP:20260424T101216
CREATED:20240102T113421Z
LAST-MODIFIED:20240102T113421Z
UID:2812-1705086000-1705091400@elfilodorado.com
SUMMARY:Baños de Gong\, liberando el karma.
DESCRIPTION:
URL:https://elfilodorado.com/taller/banos-de-gong-liberando-el-karma
LOCATION:ELFILODORADO\, Avenida Alcalde García Acien\, 88\, El Ejido (Almería)\, almeria\, 04700\, Spain
END:VEVENT
BEGIN:VEVENT
DTSTART;TZID=Europe/Paris:20240111T160000
DTEND;TZID=Europe/Paris:20240111T200000
DTSTAMP:20260424T101216
CREATED:20231227T111139Z
LAST-MODIFIED:20231227T111139Z
UID:2808-1704988800-1705003200@elfilodorado.com
SUMMARY:Constelaciones Familiares
DESCRIPTION:Se trata de una técnica terapéutica creada por Bert Hellinger\, que permite poner de manifiesto las dinámicas inconscientes que nos generan algún tipo de limitación y/o sufrimiento en algún aspecto de nuestra vida; ya sea en cómo nos relacionamos con lo demás\, en nuestra salud\, en nuestra vida afectiva\, sexual\, nuestra … \n  \n 
URL:https://elfilodorado.com/taller/constelaciones-familiares-2
LOCATION:ELFILODORADO\, Avenida Alcalde García Acien\, 88\, El Ejido (Almería)\, almeria\, 04700\, Spain
END:VEVENT
BEGIN:VEVENT
DTSTART;TZID=Europe/Paris:20240111T103000
DTEND;TZID=Europe/Paris:20240111T120000
DTSTAMP:20260424T101216
CREATED:20231227T110551Z
LAST-MODIFIED:20231227T110551Z
UID:2803-1704969000-1704974400@elfilodorado.com
SUMMARY:Salud Consciente
DESCRIPTION:Descubre el poder de la aromaterapia. Conocimiento básico para tratar el malestar general\, a nivel físico\, emocional y mental. Deja de abusar de medicamentos y cuida a los que mas quieres sin tóxicos\, ni químicos perjudiciales para la salud.
URL:https://elfilodorado.com/taller/salud-consciente-3
LOCATION:ELFILODORADO\, Avenida Alcalde García Acien\, 88\, El Ejido (Almería)\, almeria\, 04700\, Spain
END:VEVENT
BEGIN:VEVENT
DTSTART;TZID=Europe/Paris:20240103T193000
DTEND;TZID=Europe/Paris:20240103T203000
DTSTAMP:20260424T101216
CREATED:20231227T111526Z
LAST-MODIFIED:20231227T111526Z
UID:2810-1704310200-1704313800@elfilodorado.com
SUMMARY:Yoga Vinyasa
DESCRIPTION:Puedes asistir a una clase suelta o adquirir el bono de todo el mes.
URL:https://elfilodorado.com/taller/yoga-vinyasa
LOCATION:ELFILODORADO\, Avenida Alcalde García Acien\, 88\, El Ejido (Almería)\, almeria\, 04700\, Spain
END:VEVENT
BEGIN:VEVENT
DTSTART;TZID=Europe/Paris:20231227T193000
DTEND;TZID=Europe/Paris:20231227T203000
DTSTAMP:20260424T101216
CREATED:20231129T122430Z
LAST-MODIFIED:20231129T122430Z
UID:2791-1703705400-1703709000@elfilodorado.com
SUMMARY:Clase de yoga Vinsaya
DESCRIPTION:
URL:https://elfilodorado.com/taller/clase-de-yoga-vinsaya-6
LOCATION:ELFILODORADO\, Avenida Alcalde García Acien\, 88\, El Ejido (Almería)\, almeria\, 04700\, Spain
END:VEVENT
BEGIN:VEVENT
DTSTART;TZID=UTC:20231222T190000
DTEND;TZID=UTC:20231222T203000
DTSTAMP:20260424T101216
CREATED:20231129T123048Z
LAST-MODIFIED:20231201T102552Z
UID:2796-1703271600-1703277000@elfilodorado.com
SUMMARY:Baños de Gong.
DESCRIPTION:¿QUÉ ES UN BAÑO DE GONG?\nEs una inmersión completa en los sonidos y las vibraciones del gong durante 45 minutos\, induciendo a un estado de profunda relajación\, favoreciendo así un estado donde se produce la sanación física\, emocional\, mental y un mejor flujo energético. En un baño de gong puedes liberarte de pensamientos compulsivos\, sentimientos estancados\, aliviar el estrés\, ansiedad\, tensiones y equilibrar tus centros energéticos. Un baño de gong proporciona un descanso equivalente a 8 horas de sueño.\nEsta técnica milenaria aporta múltiples beneficios para la salud:\n✅ Relaja profundamente\n✅ Despeja y focaliza la mente\n✅ Combate el estrés y la ansiedad\n✅ Estimula y mejora las funciones del sistema glandular\n✅ Mejora la circulación\n✅Ayuda a equilibrar la energía emocional\n✅Regenera las interconexiones neuronales\n✅ Optimiza el sistema nervioso\n✅ Trata el sistema energético de Chakras\n✅Fortalece el sistema parasimpático\n✅Ayuda a aumentar y trabajar en la autoestima y autoaceptación\n✅Mejora las funciones cognitivas y la memoria
URL:https://elfilodorado.com/taller/banos-de-gong
LOCATION:ELFILODORADO\, Avenida Alcalde García Acien\, 88\, El Ejido (Almería)\, almeria\, 04700\, Spain
END:VEVENT
BEGIN:VEVENT
DTSTART;TZID=Europe/Paris:20231221T170000
DTEND;TZID=Europe/Paris:20231221T200000
DTSTAMP:20260424T101216
CREATED:20231129T122631Z
LAST-MODIFIED:20231129T122631Z
UID:2793-1703178000-1703188800@elfilodorado.com
SUMMARY:Bienvenida al solsticio de invierno.
DESCRIPTION:
URL:https://elfilodorado.com/taller/bienvenida-al-solsticio-de-invierno
LOCATION:ELFILODORADO\, Avenida Alcalde García Acien\, 88\, El Ejido (Almería)\, almeria\, 04700\, Spain
END:VEVENT
BEGIN:VEVENT
DTSTART;TZID=Europe/Paris:20231220T193000
DTEND;TZID=Europe/Paris:20231220T203000
DTSTAMP:20260424T101216
CREATED:20231129T122305Z
LAST-MODIFIED:20231129T122305Z
UID:2788-1703100600-1703104200@elfilodorado.com
SUMMARY:Clase de yoga Vinsaya
DESCRIPTION:
URL:https://elfilodorado.com/taller/clase-de-yoga-vinsaya-5
LOCATION:ELFILODORADO\, Avenida Alcalde García Acien\, 88\, El Ejido (Almería)\, almeria\, 04700\, Spain
END:VEVENT
BEGIN:VEVENT
DTSTART;TZID=Europe/Paris:20231218T193000
DTEND;TZID=Europe/Paris:20231218T203000
DTSTAMP:20260424T101216
CREATED:20231129T122157Z
LAST-MODIFIED:20231129T122157Z
UID:2786-1702927800-1702931400@elfilodorado.com
SUMMARY:Clase de yoga Vinsaya
DESCRIPTION:
URL:https://elfilodorado.com/taller/clase-de-yoga-vinsaya-4
LOCATION:ELFILODORADO\, Avenida Alcalde García Acien\, 88\, El Ejido (Almería)\, almeria\, 04700\, Spain
END:VEVENT
BEGIN:VEVENT
DTSTART;TZID=UTC:20231215T180000
DTEND;TZID=UTC:20231215T193000
DTSTAMP:20260424T101216
CREATED:20231129T115827Z
LAST-MODIFIED:20231129T115827Z
UID:2767-1702663200-1702668600@elfilodorado.com
SUMMARY:Tarde Esencial con Mar.
DESCRIPTION:Vente a pasar una tarde con Mar.\n💫 Tendrás la oportunidad de preguntarle lo que quieras\, además nos sorprenderá con una de sus terapias. \n💫Buscadora\, conocedora y practicante de muchas terapias de crecimiento personal:\nTerapia Gestal\, Mindfulnes\, retiros de diversas disciplinas\, silencio\, yoga\, chikung\, shiatsu\, respiración holotrópica\, etc. Donde ha podido experimentar y estudiar los efectos que proporciona a la persona. \n» Aquel con la vocación de curar almas\, no se apoya en teorías\, ni técnicas sino en su experiencia personal del camino interior y de su creatividad. Cuando el terapeuta ha madurado lo suficiente\, la ayuda le llega al paciente\, a través del simple encuentro»
URL:https://elfilodorado.com/taller/tarde-esencial-con-mar
LOCATION:ELFILODORADO\, Avenida Alcalde García Acien\, 88\, El Ejido (Almería)\, almeria\, 04700\, Spain
END:VEVENT
BEGIN:VEVENT
DTSTART;TZID=Europe/Paris:20231213T193000
DTEND;TZID=Europe/Paris:20231213T203000
DTSTAMP:20260424T101216
CREATED:20231129T122011Z
LAST-MODIFIED:20231129T122011Z
UID:2784-1702495800-1702499400@elfilodorado.com
SUMMARY:Clase de yoga Vinsaya
DESCRIPTION:Facilita Raquel Morales.
URL:https://elfilodorado.com/taller/clase-de-yoga-vinsaya-3
LOCATION:ELFILODORADO\, Avenida Alcalde García Acien\, 88\, El Ejido (Almería)\, almeria\, 04700\, Spain
END:VEVENT
BEGIN:VEVENT
DTSTART;TZID=Europe/Paris:20231213T190000
DTEND;TZID=Europe/Paris:20231213T194500
DTSTAMP:20260424T101216
CREATED:20231025T192048Z
LAST-MODIFIED:20231129T121243Z
UID:2735-1702494000-1702496700@elfilodorado.com
SUMMARY:Lo bueno se comparte
DESCRIPTION:6 Semanas de Formación: \n8 de Noviembre: Ya tengo mi Kit\, ¿ahora qué?\n15 de Noviembre: Estilo de vida saludable\n22 de Noviembre: AE y emociones\n29 de Noviembre: AE y niños\n7 de Diciembre: Meta Power\n13 de Diciembre: Lo bueno se comparte
URL:https://elfilodorado.com/taller/lo-bueno-se-comparte
LOCATION:almeria
END:VEVENT
BEGIN:VEVENT
DTSTART;TZID=Europe/Paris:20231211T193000
DTEND;TZID=Europe/Paris:20231211T203000
DTSTAMP:20260424T101216
CREATED:20231129T121855Z
LAST-MODIFIED:20231129T121855Z
UID:2782-1702323000-1702326600@elfilodorado.com
SUMMARY:Clase de yoga Vinyasa
DESCRIPTION:Facilita Raquel Morales.
URL:https://elfilodorado.com/taller/clase-de-yoga-vinyasa
LOCATION:ELFILODORADO\, Avenida Alcalde García Acien\, 88\, El Ejido (Almería)\, almeria\, 04700\, Spain
END:VEVENT
BEGIN:VEVENT
DTSTART;TZID=UTC:20231207T180000
DTEND;TZID=UTC:20231207T193000
DTSTAMP:20260424T101216
CREATED:20231129T120508Z
LAST-MODIFIED:20231129T120508Z
UID:2770-1701972000-1701977400@elfilodorado.com
SUMMARY:salud consciente.
DESCRIPTION:Aprende a cuidarte de una forma más natural. Conoce como prevenir cualquier enfermedad y como abordad la enfermedad de la forma menos tóxica posible. Soluciones naturales para toda la familia.
URL:https://elfilodorado.com/taller/salud-consciente-2
LOCATION:calle sierra nevada \, 39\, calle sierra nevada\, 39\, el ejido\, almeria\, 04700\, España
END:VEVENT
BEGIN:VEVENT
DTSTART;TZID=UTC:20231205T190000
DTEND;TZID=UTC:20231205T194500
DTSTAMP:20260424T101216
CREATED:20231025T192003Z
LAST-MODIFIED:20231129T121132Z
UID:2733-1701802800-1701805500@elfilodorado.com
SUMMARY:Meta Power
DESCRIPTION:6 Semanas de Formación: \n8 de Noviembre: Ya tengo mi Kit\, ¿ahora qué?\n15 de Noviembre: Estilo de vida saludable\n22 de Noviembre: AE y emociones\n29 de Noviembre: AE y niños\n5 de Diciembre: Meta Power\n13 de Diciembre: Lo bueno se comparte
URL:https://elfilodorado.com/taller/meta-power
LOCATION:almeria
END:VEVENT
BEGIN:VEVENT
DTSTART;TZID=UTC:20231204T193000
DTEND;TZID=UTC:20231204T203000
DTSTAMP:20260424T101216
CREATED:20231129T121621Z
LAST-MODIFIED:20231129T121621Z
UID:2780-1701718200-1701721800@elfilodorado.com
SUMMARY:Clase de Yoga Vinsaya.
DESCRIPTION:Puedes acudir a una clase suelta o adquirir el mes completo. Facilita Raquel Morales.
URL:https://elfilodorado.com/taller/clase-de-yoga-vinsaya-2
LOCATION:ELFILODORADO\, Avenida Alcalde García Acien\, 88\, El Ejido (Almería)\, almeria\, 04700\, Spain
END:VEVENT
BEGIN:VEVENT
DTSTART;TZID=Europe/Paris:20231202T173000
DTEND;TZID=Europe/Paris:20231202T190000
DTSTAMP:20260424T101216
CREATED:20231129T114613Z
LAST-MODIFIED:20231129T114613Z
UID:2762-1701538200-1701543600@elfilodorado.com
SUMMARY:salud consciente
DESCRIPTION:¿ Qué aprenderás ? \n🪻 Que es realmente la aromaterapia\, formas de uso y cómo utilizarlas de forma adecuada. \n💐 Cómo dar solución a cualquier problema de salud\, ya sea física\, emocional o mental\, sin efectos adversos; a través de esencias naturales de grado terapéutico. \n💫Además en este taller te espera una gran experiencia sensorial\, ya que las probaras y podrás experimentar en ti \, sus grandes beneficios 💫 \n💥Ya es hora de que te hagas responsable de tu propia salud\, porque nadie te conoce mejor que tú.
URL:https://elfilodorado.com/taller/salud-consciente
LOCATION:ELFILODORADO\, Avenida Alcalde García Acien\, 88\, El Ejido (Almería)\, almeria\, 04700\, Spain
END:VEVENT
BEGIN:VEVENT
DTSTART;TZID=Europe/Paris:20231129T193000
DTEND;TZID=Europe/Paris:20231129T203000
DTSTAMP:20260424T101216
CREATED:20231129T115135Z
LAST-MODIFIED:20231129T115135Z
UID:2765-1701286200-1701289800@elfilodorado.com
SUMMARY:Clase de yoga Vinsaya
DESCRIPTION:Facilita Raquel Morales. Puedes unirte a una clase suelta o el mes completo.
URL:https://elfilodorado.com/taller/clase-de-yoga-vinsaya
LOCATION:ELFILODORADO\, Avenida Alcalde García Acien\, 88\, El Ejido (Almería)\, almeria\, 04700\, Spain
END:VEVENT
BEGIN:VEVENT
DTSTART;TZID=Europe/Paris:20231124T160000
DTEND;TZID=Europe/Paris:20231124T200000
DTSTAMP:20260424T101216
CREATED:20231123T103818Z
LAST-MODIFIED:20231123T103818Z
UID:2758-1700841600-1700856000@elfilodorado.com
SUMMARY:Taller de constelaciones familiares
DESCRIPTION:
URL:https://elfilodorado.com/taller/taller-de-constelaciones-familiares
LOCATION:ELFILODORADO\, Avenida Alcalde García Acien\, 88\, El Ejido (Almería)\, almeria\, 04700\, Spain
END:VEVENT
BEGIN:VEVENT
DTSTART;TZID=Europe/Paris:20231122T080000
DTEND;TZID=Europe/Paris:20231122T170000
DTSTAMP:20260424T101216
CREATED:20231025T191809Z
LAST-MODIFIED:20231025T191809Z
UID:2729-1700640000-1700672400@elfilodorado.com
SUMMARY:AE y emociones
DESCRIPTION:6 Semanas de Formación: \n8 de Noviembre: Ya tengo mi Kit\, ¿ahora qué?\n15 de Noviembre: Estilo de vida saludable\n22 de Noviembre: AE y emociones\n29 de Noviembre: AE y niños\n7 de Diciembre: Meta Power\n14 de Diciembre: Lo bueno se comparte
URL:https://elfilodorado.com/taller/ae-y-emociones
LOCATION:ELFILODORADO\, Avenida Alcalde García Acien\, 88\, El Ejido (Almería)\, almeria\, 04700\, Spain
END:VEVENT
BEGIN:VEVENT
DTSTART;TZID=UTC:20231118T110000
DTEND;TZID=UTC:20231118T143000
DTSTAMP:20260424T101216
CREATED:20231023T090133Z
LAST-MODIFIED:20231023T090304Z
UID:2575-1700305200-1700317800@elfilodorado.com
SUMMARY:Evento DoTerra con grandes líderes
DESCRIPTION:Tu salud está en tus manos \nDescubre cómo puedes transformar tu salud física\, mental\, emocional y espiritual
URL:https://elfilodorado.com/taller/evento-doterra-con-grandes-lideres
LOCATION:Hotel Gran Fama (Almería)\, Avenida del Mediterráneo\, 3\, Almería\, España
END:VEVENT
BEGIN:VEVENT
DTSTART;TZID=Europe/Paris:20231115T190000
DTEND;TZID=Europe/Paris:20231115T194500
DTSTAMP:20260424T101216
CREATED:20231025T191702Z
LAST-MODIFIED:20231025T192137Z
UID:2727-1700074800-1700077500@elfilodorado.com
SUMMARY:Estilo de vida saludable
DESCRIPTION:6 Semanas de Formación: \n8 de Noviembre: Ya tengo mi Kit\, ¿ahora qué?\n15 de Noviembre: Estilo de vida saludable\n22 de Noviembre: AE y emociones\n29 de Noviembre: AE y niños\n7 de Diciembre: Meta Power\n14 de Diciembre: Lo bueno se comparte
URL:https://elfilodorado.com/taller/estilo-de-vida-saludable
LOCATION:ELFILODORADO\, Avenida Alcalde García Acien\, 88\, El Ejido (Almería)\, almeria\, 04700\, Spain
END:VEVENT
BEGIN:VEVENT
DTSTART;TZID=Europe/Paris:20231111T170000
DTEND;TZID=Europe/Paris:20231111T190000
DTSTAMP:20260424T101216
CREATED:20231023T081448Z
LAST-MODIFIED:20231023T085243Z
UID:2559-1699722000-1699729200@elfilodorado.com
SUMMARY:De la mente al ser: Transformación Interior
DESCRIPTION:Mecánica del Ser\n⭐ TALLER “DE LA MENTE AL SER: Transformación Interior” \n🌈 ¿Estás preparado para experimentar una verdadera transformación? \nQué vas a descubrir: \n⿡ Descubriendo qué es la Mente \n✔¿Qué es el Ser y cómo funciona?\n✔¿Qué es la Mente y cómo funciona?\n✔¿Por qué la Mente me gobierna?\n✔¿Cuál es la diferencia entre el Mundo Mental y el Mundo Real? \n⿢ La Mente y el Auto- conocimiento \n✔¿Por qué siento que no me conozco?\n✔¿Por qué los recuerdos y pensamientos me torturan?\n✔¿Por qué siempre me desilusiono?\n✔¿Por qué me siento limitado/a? \n⿣ Hacia una Mente funcional con nuestro Ser \n✔ Mapa para una Mente funcional al Ser\n✔ Recursos para el día a día\n✔ Preguntas y respuestas. \n🗓 Sábado 11 de noviembre\n⏰ 17 a 19 horas \n📌 Centro Holístico Elfilodorado\n👉 c/ Lobero\, 18 – El Ejido \n✍ Reserva de plaza: 699 415 798 / 648 718 703
URL:https://elfilodorado.com/taller/de-la-mente-al-ser-transformacion-interior
LOCATION:ELFILODORADO\, Avenida Alcalde García Acien\, 88\, El Ejido (Almería)\, almeria\, 04700\, Spain
END:VEVENT
END:VCALENDAR