BEGIN:VCALENDAR
VERSION:2.0
PRODID:-//El Filo Dorado - ECPv6.15.17.1//NONSGML v1.0//EN
CALSCALE:GREGORIAN
METHOD:PUBLISH
X-WR-CALNAME:El Filo Dorado
X-ORIGINAL-URL:https://elfilodorado.com
X-WR-CALDESC:Eventos para El Filo Dorado
REFRESH-INTERVAL;VALUE=DURATION:PT1H
X-Robots-Tag:noindex
X-PUBLISHED-TTL:PT1H
BEGIN:VTIMEZONE
TZID:Europe/Helsinki
BEGIN:DAYLIGHT
TZOFFSETFROM:+0200
TZOFFSETTO:+0300
TZNAME:EEST
DTSTART:20230326T010000
END:DAYLIGHT
BEGIN:STANDARD
TZOFFSETFROM:+0300
TZOFFSETTO:+0200
TZNAME:EET
DTSTART:20231029T010000
END:STANDARD
BEGIN:DAYLIGHT
TZOFFSETFROM:+0200
TZOFFSETTO:+0300
TZNAME:EEST
DTSTART:20240331T010000
END:DAYLIGHT
BEGIN:STANDARD
TZOFFSETFROM:+0300
TZOFFSETTO:+0200
TZNAME:EET
DTSTART:20241027T010000
END:STANDARD
BEGIN:DAYLIGHT
TZOFFSETFROM:+0200
TZOFFSETTO:+0300
TZNAME:EEST
DTSTART:20250330T010000
END:DAYLIGHT
BEGIN:STANDARD
TZOFFSETFROM:+0300
TZOFFSETTO:+0200
TZNAME:EET
DTSTART:20251026T010000
END:STANDARD
END:VTIMEZONE
BEGIN:VTIMEZONE
TZID:Europe/Paris
BEGIN:DAYLIGHT
TZOFFSETFROM:+0100
TZOFFSETTO:+0200
TZNAME:CEST
DTSTART:20230326T010000
END:DAYLIGHT
BEGIN:STANDARD
TZOFFSETFROM:+0200
TZOFFSETTO:+0100
TZNAME:CET
DTSTART:20231029T010000
END:STANDARD
BEGIN:DAYLIGHT
TZOFFSETFROM:+0100
TZOFFSETTO:+0200
TZNAME:CEST
DTSTART:20240331T010000
END:DAYLIGHT
BEGIN:STANDARD
TZOFFSETFROM:+0200
TZOFFSETTO:+0100
TZNAME:CET
DTSTART:20241027T010000
END:STANDARD
BEGIN:DAYLIGHT
TZOFFSETFROM:+0100
TZOFFSETTO:+0200
TZNAME:CEST
DTSTART:20250330T010000
END:DAYLIGHT
BEGIN:STANDARD
TZOFFSETFROM:+0200
TZOFFSETTO:+0100
TZNAME:CET
DTSTART:20251026T010000
END:STANDARD
END:VTIMEZONE
BEGIN:VEVENT
DTSTART;VALUE=DATE:20240831
DTEND;VALUE=DATE:20240901
DTSTAMP:20260422T181704
CREATED:20240822T071400Z
LAST-MODIFIED:20240822T071400Z
UID:3001-1725062400-1725148799@elfilodorado.com
SUMMARY:Formación de Terapia con péndulo\, Vera
DESCRIPTION:Formación intensiva\n🪷Terapia con péndulo completo.\nEn este curso aprenderás la manera de remover energía sutiles y cortar votos y contratos energéticos\, magia negra\, energías discordantes\, traumas y constelaciones que generan programas. Se moverán energías de vidas pasadas\, como también de la presente\, trayendo consciencia y autoconocimiento.\nLa sanación con péndulo es una herramienta de empoderamiento que te permitirá de manera consciente liberarte en el día a día y así poder sentirte pleno en el presente.\nHerramienta para sanarte a ti y a otras personas\, ya sea de forma presencial o a distancia. \n🌸 ¿QUÉ APRENDERAS?\n– Qué es el péndulo\, de que está compuesta una sanación con péndulo.\n– Trabajaremos con más de 15 gráficos.\n– Bono adicional péndulo y cristaloterapia.\n– Gráfico extra para recrear remedios homeopaticos.
URL:https://elfilodorado.com/taller/formacion-de-terapia-con-pendulo-vera
LOCATION:La magia comienza aquí\, ronda de las buganvillas\, 16\, vera\, almeria\, España
END:VEVENT
BEGIN:VEVENT
DTSTART;TZID=Europe/Helsinki:20240830T200000
DTEND;TZID=Europe/Helsinki:20240830T203000
DTSTAMP:20260422T181704
CREATED:20240822T070740Z
LAST-MODIFIED:20240822T070740Z
UID:2999-1725048000-1725049800@elfilodorado.com
SUMMARY:Oportunidad de negocio consciente.
DESCRIPTION:Descubre los secretos de éxito con Doterra. Aprende a crear un negocio próspero y alineado con tus valores. \nTaller Online vía zoom. Dos horarios: 10:30H o 20h\, escoge el tuyo y pídeme enlace. Taller gratuito\, duración aprox 30 minutos.
URL:https://elfilodorado.com/taller/oportunidad-de-negocio-consciente
LOCATION:almeria
END:VEVENT
BEGIN:VEVENT
DTSTART;TZID=Europe/Helsinki:20240828T200000
DTEND;TZID=Europe/Helsinki:20240828T210000
DTSTAMP:20260422T181704
CREATED:20240822T070255Z
LAST-MODIFIED:20240822T070255Z
UID:2997-1724875200-1724878800@elfilodorado.com
SUMMARY:Introducción a la Aromaterapia
DESCRIPTION:Taller online vía zoom. » Aprende los beneficios de los aceites esenciales y como utilizarlos en tu vida diaria». \nDos horarios : 10:30H o 20h\, pídeme enlace para tu hora de preferencia. Duración aprox 1h. \n 
URL:https://elfilodorado.com/taller/introduccion-a-la-aromaterapia-5
LOCATION:almeria
END:VEVENT
BEGIN:VEVENT
DTSTART;TZID=Europe/Helsinki:20240803T170000
DTEND;TZID=Europe/Helsinki:20240803T183000
DTSTAMP:20260422T181705
CREATED:20240706T135552Z
LAST-MODIFIED:20240706T135552Z
UID:2992-1722704400-1722709800@elfilodorado.com
SUMMARY:Introducción a la Aromaterapia
DESCRIPTION:¿Qué aprenderás en este taller?\n1 – Qué es un aceite esencial.\n2- Tres usos.\n3- Tres aspectos fundamentales.\n4- Criterios para elegir un aceite esencial de calidad.\n5- Conocimiento básico de 10 aceites esenciales para nuestra rutina diaria. \n🪷 Además por asistir recibirás un eBOOK de 10 usos de los aceites esenciales. \nAportación 10€. \nFacilita Jenifer García\nTerapeuta Holística
URL:https://elfilodorado.com/taller/introduccion-a-la-aromaterapia-4
LOCATION:La magia comienza aquí\, ronda de las buganvillas\, 16\, vera\, almeria\, España
END:VEVENT
BEGIN:VEVENT
DTSTART;TZID=Europe/Helsinki:20240803T110000
DTEND;TZID=Europe/Helsinki:20240803T140000
DTSTAMP:20260422T181705
CREATED:20240706T135120Z
LAST-MODIFIED:20240706T135120Z
UID:2988-1722682800-1722693600@elfilodorado.com
SUMMARY:Astrología\, descubre tu personalidad
DESCRIPTION:La «carta astral»\, también llamada «carta natal»\, es una fotografía de cómo estaba el cielo en el momento que nacimos. Se trata de la herramienta de autoconocimiento básica de la astrología y describe las energías que conforman la esencia de cada persona. \nYo le llamo libro de instrucciones\, es como tú huella dactilar\,única. A través de ella se abre un amplio entendimiento y autoconocimiento de nosotros mismos y ayuda a entender el porqué cada persona actúa de determinada manera. \nEl próximo 3 de agosto\, 11h\, vente a descubrir los aspectos más importantes de tu personalidad. \nPrecio del taller : 35€\nPlazas limitadas.
URL:https://elfilodorado.com/taller/astrologia-descubre-tu-personalidad
LOCATION:La magia comienza aquí\, ronda de las buganvillas\, 16\, vera\, almeria\, España
END:VEVENT
BEGIN:VEVENT
DTSTART;TZID=Europe/Helsinki:20240712T160000
DTEND;TZID=Europe/Helsinki:20240712T200000
DTSTAMP:20260422T181705
CREATED:20240706T134500Z
LAST-MODIFIED:20240706T134500Z
UID:2985-1720800000-1720814400@elfilodorado.com
SUMMARY:Constelaciones Familiares
DESCRIPTION:
URL:https://elfilodorado.com/taller/constelaciones-familiares-10
LOCATION:ELFILODORADO\, Avenida Alcalde García Acien\, 88\, El Ejido (Almería)\, almeria\, 04700\, Spain
END:VEVENT
BEGIN:VEVENT
DTSTART;TZID=Europe/Helsinki:20240711T160000
DTEND;TZID=Europe/Helsinki:20240711T200000
DTSTAMP:20260422T181705
CREATED:20240706T134332Z
LAST-MODIFIED:20240706T134332Z
UID:2982-1720713600-1720728000@elfilodorado.com
SUMMARY:Constelaciones Familiares
DESCRIPTION:
URL:https://elfilodorado.com/taller/constelaciones-familiares-9
LOCATION:ELFILODORADO\, Avenida Alcalde García Acien\, 88\, El Ejido (Almería)\, almeria\, 04700\, Spain
END:VEVENT
BEGIN:VEVENT
DTSTART;TZID=Europe/Helsinki:20240604T100000
DTEND;TZID=Europe/Helsinki:20240604T120000
DTSTAMP:20260422T181705
CREATED:20240423T104436Z
LAST-MODIFIED:20240423T104436Z
UID:2951-1717495200-1717502400@elfilodorado.com
SUMMARY:Formación Tarot
DESCRIPTION:Formación completa donde aprenderás el uso del tarot de una forma estructurada\, adentrandonos en profundidad en cada carta. Además de prácticas con más de 18 tiradas diferente en el primer bloque. \nHorario martes y jueves de 10h a 12h  o de 19h a 21h\, dependiendo del horario que mejor se ajuste a ti. \nPlazas limitadas.
URL:https://elfilodorado.com/taller/formacion-tarot
LOCATION:ELFILODORADO\, Avenida Alcalde García Acien\, 88\, El Ejido (Almería)\, almeria\, 04700\, Spain
END:VEVENT
BEGIN:VEVENT
DTSTART;TZID=Europe/Helsinki:20240601T100000
DTEND;TZID=Europe/Helsinki:20240601T180000
DTSTAMP:20260422T181705
CREATED:20240423T105017Z
LAST-MODIFIED:20240423T105017Z
UID:2954-1717236000-1717264800@elfilodorado.com
SUMMARY:Formación Terapia con Péndulo
DESCRIPTION:Formación intensiva 6h.\n🪷Terapia con péndulo completo.\nEn este curso aprenderás la manera de remover energía sutiles y cortar votos y contratos energéticos\, magia negra\, energías discordantes\, traumas y constelaciones que generan programas. Se moverán energías de vidas pasadas\, como también de la presente\, trayendo consciencia y autoconocimiento.\nLa sanación con péndulo es una herramienta de empoderamiento que te permitirá de manera consciente liberarte en el día a día y así poder sentirte pleno en el presente.\nHerramienta para sanarte a ti y a otras personas\, ya sea de forma presencial o a distancia. \n🌸 ¿QUÉ APRENDERAS?\n– Qué es el péndulo\, de que está compuesta una sanación con péndulo.\n– Trabajaremos con más de 15 gráficos.\n– Bono adicional péndulo y cristaloterapia.\n– Gráfico extra para recrear remedios homeopáticos.
URL:https://elfilodorado.com/taller/formacion-terapia-con-pendulo-3
LOCATION:almeria
END:VEVENT
BEGIN:VEVENT
DTSTART;TZID=Europe/Helsinki:20240528T200000
DTEND;TZID=Europe/Helsinki:20240528T210000
DTSTAMP:20260422T181705
CREATED:20240519T200148Z
LAST-MODIFIED:20240519T200148Z
UID:2964-1716926400-1716930000@elfilodorado.com
SUMMARY:Formación Online "Las bases de la Aromaterapia"
DESCRIPTION:Si estás deseos@ de aprender e indagar en el mundo de la Aromaterapia. Este es tu taller !!!🪷 \n¿Qué vas aprender? \n1 – Qué es un aceite esencial.\n2- Distintas formas de uso.\n3- Aspectos fundamentales.\n4- Criterios para elegir un aceite esencial de calidad.\n5- Conocimiento básico de 10 aceites esenciales para nuestra rutina diaria. \n🪷 Además por asistir recibirás un eBOOK de 100 usos de los aceites esenciales. \nAforo Limitado a 10 personas.\nApúntate solo en el caso de estar segur@ de que vas asistir. Yo me comprometo a enseñarte\, yo confío en tu palabra. Esta formación es para personas con ganas de aprender y con un gran compromiso con ell@s mism@s. \nFacilita Jenifer García\nInfo y reserva\nWhatsApp 648 71 87 03
URL:https://elfilodorado.com/taller/formacion-online-las-bases-de-la-aromaterapia
LOCATION:almeria
END:VEVENT
BEGIN:VEVENT
DTSTART;TZID=Europe/Helsinki:20240510T190000
DTEND;TZID=Europe/Helsinki:20240510T203000
DTSTAMP:20260422T181705
CREATED:20240430T172402Z
LAST-MODIFIED:20240430T172402Z
UID:2960-1715367600-1715373000@elfilodorado.com
SUMMARY:Baño Sonoro
DESCRIPTION:
URL:https://elfilodorado.com/taller/bano-sonoro
LOCATION:ELFILODORADO\, Avenida Alcalde García Acien\, 88\, El Ejido (Almería)\, almeria\, 04700\, Spain
END:VEVENT
BEGIN:VEVENT
DTSTART;TZID=Europe/Helsinki:20240509T193000
DTEND;TZID=Europe/Helsinki:20240509T203000
DTSTAMP:20260422T181705
CREATED:20240423T103250Z
LAST-MODIFIED:20240423T103250Z
UID:2948-1715283000-1715286600@elfilodorado.com
SUMMARY:Constelaciones Familiares
DESCRIPTION:
URL:https://elfilodorado.com/taller/constelaciones-familiares-8
LOCATION:ELFILODORADO\, Avenida Alcalde García Acien\, 88\, El Ejido (Almería)\, almeria\, 04700\, Spain
END:VEVENT
BEGIN:VEVENT
DTSTART;TZID=Europe/Helsinki:20240506T080000
DTEND;TZID=Europe/Helsinki:20240506T170000
DTSTAMP:20260422T181705
CREATED:20240430T172156Z
LAST-MODIFIED:20240430T172156Z
UID:2958-1714982400-1715014800@elfilodorado.com
SUMMARY:Yoga Vinyasa
DESCRIPTION:
URL:https://elfilodorado.com/taller/yoga-vinyasa-18
LOCATION:ELFILODORADO\, Avenida Alcalde García Acien\, 88\, El Ejido (Almería)\, almeria\, 04700\, Spain
END:VEVENT
BEGIN:VEVENT
DTSTART;TZID=Europe/Helsinki:20240504T100000
DTEND;TZID=Europe/Helsinki:20240504T190000
DTSTAMP:20260422T181705
CREATED:20240409T083857Z
LAST-MODIFIED:20240409T083857Z
UID:2940-1714816800-1714849200@elfilodorado.com
SUMMARY:Formación Terapia con Péndulo
DESCRIPTION:Formación intensiva 8h.\n🪷Terapia con péndulo completo.\nEn este curso aprenderás la manera de remover energía sutiles y cortar votos y contratos energéticos\, magia negra\, energías discordantes\, traumas y constelaciones que generan programas. Se moverán energías de vidas pasadas\, como también de la presente\, trayendo consciencia y autoconocimiento.\nLa sanación con péndulo es una herramienta de empoderamiento que te permitirá de manera consciente liberarte en el día a día y así poder sentirte pleno en el presente.\nHerramienta para sanarte a ti y a otras personas\, ya sea de forma presencial o a distancia. \n🌸 ¿QUÉ APRENDERAS?\n– Qué es el péndulo\, de que está compuesta una sanación con péndulo.\n– Trabajaremos con más de 15 gráficos.\n– Bono adicional péndulo y cristaloterapia.\n– Gráfico extra para recrear remedios homeopáticos. \n✨ Último día para inscribirse 26 de abril.
URL:https://elfilodorado.com/taller/formacion-terapia-con-pendulo-2
LOCATION:ELFILODORADO\, Avenida Alcalde García Acien\, 88\, El Ejido (Almería)\, almeria\, 04700\, Spain
END:VEVENT
BEGIN:VEVENT
DTSTART;TZID=Europe/Helsinki:20240501T100000
DTEND;TZID=Europe/Helsinki:20240501T140000
DTSTAMP:20260422T181705
CREATED:20240409T082241Z
LAST-MODIFIED:20240409T082241Z
UID:2931-1714557600-1714572000@elfilodorado.com
SUMMARY:Constelaciones Familiares
DESCRIPTION:
URL:https://elfilodorado.com/taller/constelaciones-familiares-7
LOCATION:ELFILODORADO\, Avenida Alcalde García Acien\, 88\, El Ejido (Almería)\, almeria\, 04700\, Spain
END:VEVENT
BEGIN:VEVENT
DTSTART;TZID=Europe/Helsinki:20240429T193000
DTEND;TZID=Europe/Helsinki:20240429T203000
DTSTAMP:20260422T181705
CREATED:20240423T102114Z
LAST-MODIFIED:20240423T102114Z
UID:2946-1714419000-1714422600@elfilodorado.com
SUMMARY:Yoga Vinyasa
DESCRIPTION:
URL:https://elfilodorado.com/taller/yoga-vinyasa-17
LOCATION:ELFILODORADO\, Avenida Alcalde García Acien\, 88\, El Ejido (Almería)\, almeria\, 04700\, Spain
END:VEVENT
BEGIN:VEVENT
DTSTART;TZID=Europe/Helsinki:20240426T190000
DTEND;TZID=Europe/Helsinki:20240426T200000
DTSTAMP:20260422T181705
CREATED:20240402T120908Z
LAST-MODIFIED:20240409T082531Z
UID:2921-1714158000-1714161600@elfilodorado.com
SUMMARY:Baño sonoro con cuencos.
DESCRIPTION:✅La Terapia Vibracional es medicina preventiva a cualquier nivel. El uso regular del sonido unido a la intención nos ayuda a vibrar de una forma más rápida a nivel celular o molecular\, de esta forma elevamos nuestra frecuencia creando espacios mayores entre las células\, dificultando que las energías negativas se adhieran a las mismas. \n✅Al recibir directamente las vibraciones de un baño sonoro las células y tejidos de tu cuerpo se ordenan\, se armonizan creando una conexión con tu físico\, mente y energía. \n✅El Sonido te conduce hacia un viaje de Unidad.\nEntonces tu conciencia puede observar\, el cuerpo se relaja\, la mente reduce sus pensamientos hasta llegar al presente\, la energía se expande\, las emociones se calman y liberan. \n✅ ¿Qué instrumentos vas a sentir? :Cuencos tibetanos\, Cuencos de Cuarzo\, Palo de Lluvia\, Tambor Oceánico\, Koshis de los 4 elementos\, y demas instrumentos ancestrales.
URL:https://elfilodorado.com/taller/bano-sonoro-con-cuencos
LOCATION:ELFILODORADO\, Avenida Alcalde García Acien\, 88\, El Ejido (Almería)\, almeria\, 04700\, Spain
END:VEVENT
BEGIN:VEVENT
DTSTART;TZID=Europe/Helsinki:20240424T193000
DTEND;TZID=Europe/Helsinki:20240424T203000
DTSTAMP:20260422T181705
CREATED:20240423T100651Z
LAST-MODIFIED:20240423T100651Z
UID:2944-1713987000-1713990600@elfilodorado.com
SUMMARY:Yoga Vinyasa
DESCRIPTION:
URL:https://elfilodorado.com/taller/yoga-vinyasa-16
LOCATION:ELFILODORADO\, Avenida Alcalde García Acien\, 88\, El Ejido (Almería)\, almeria\, 04700\, Spain
END:VEVENT
BEGIN:VEVENT
DTSTART;TZID=Europe/Helsinki:20240418T160000
DTEND;TZID=Europe/Helsinki:20240418T200000
DTSTAMP:20260422T181705
CREATED:20240402T120706Z
LAST-MODIFIED:20240402T120706Z
UID:2918-1713456000-1713470400@elfilodorado.com
SUMMARY:Constelaciones Familiares
DESCRIPTION:
URL:https://elfilodorado.com/taller/constelaciones-familiares-6
LOCATION:ELFILODORADO\, Avenida Alcalde García Acien\, 88\, El Ejido (Almería)\, almeria\, 04700\, Spain
END:VEVENT
BEGIN:VEVENT
DTSTART;TZID=Europe/Helsinki:20240416T103000
DTEND;TZID=Europe/Helsinki:20240416T120000
DTSTAMP:20260422T181705
CREATED:20240409T082003Z
LAST-MODIFIED:20240409T082003Z
UID:2928-1713263400-1713268800@elfilodorado.com
SUMMARY:Taller Soluciones Naturales
DESCRIPTION:¿Qué aprenderás en este taller?\n1 – Qué es un aceite esencial.\n2- Tres usos.\n3- Tres aspectos fundamentales.\n4- Criterios para elegir un aceite esencial de calidad.\n5- Conocimiento básico de 10 aceites esenciales para nuestra rutina diaria (especial niños).\n🪷 Además por asistir recibirás un eBOOK de 100 usos de los aceites esenciales y un roll-on 5ml(solución natural) especial peques. \nAportación 10€.
URL:https://elfilodorado.com/taller/taller-soluciones-naturales
LOCATION:almeria
END:VEVENT
BEGIN:VEVENT
DTSTART;TZID=Europe/Helsinki:20240415T193000
DTEND;TZID=Europe/Helsinki:20240415T203000
DTSTAMP:20260422T181705
CREATED:20240409T082830Z
LAST-MODIFIED:20240409T082830Z
UID:2938-1713209400-1713213000@elfilodorado.com
SUMMARY:Yoga Vinyasa
DESCRIPTION:
URL:https://elfilodorado.com/taller/yoga-vinyasa-15
LOCATION:ELFILODORADO\, Avenida Alcalde García Acien\, 88\, El Ejido (Almería)\, almeria\, 04700\, Spain
END:VEVENT
BEGIN:VEVENT
DTSTART;TZID=Europe/Paris:20240414T100000
DTEND;TZID=Europe/Paris:20240414T140000
DTSTAMP:20260422T181705
CREATED:20240319T112709Z
LAST-MODIFIED:20240319T112709Z
UID:2903-1713088800-1713103200@elfilodorado.com
SUMMARY:Evento Nacional Florece en Primavera
DESCRIPTION:¿Estás cansado de estar enfermo?\n🔸¿Has oído hablar de los aceites pero no entiendes cómo funcionan?\n🔸¿Quieres entender qué son y por qué todos dicen que son tan milagrosos?\n🔸¿Te interesa tener SOLUCIONES NATURALES para la salud?\n🔸 ¿Estás cansado de pasar de un disgusto a otro\, tú o tus hijos?\n🔸 ¿El estrés diario y los estados de ansiedad no te dejan vivir tu mejor vida?\n🔸 ¿Tienes preguntas sobre la salud que aún no has recibido respuesta?\n🔸¿Quieres probarlos? Únete a nosotros en El Ejido el domingo 14 de abril a las 10:00 a. m. para descubrir cómo puedes apoyar y mejorar su salud\, tanto física\, mental como emocional\, y cómo puede ayudar a su familia y a sus seres queridos a estar más saludables\, utilizando ¡Remedios naturales! \nAbierto a todos. Info y reservas whatsapp 648 71 87 03
URL:https://elfilodorado.com/taller/evento-nacional-florece-en-primavera
LOCATION:almeria
END:VEVENT
BEGIN:VEVENT
DTSTART;TZID=Europe/Helsinki:20240410T193000
DTEND;TZID=Europe/Helsinki:20240410T203000
DTSTAMP:20260422T181705
CREATED:20240409T082711Z
LAST-MODIFIED:20240409T082711Z
UID:2936-1712777400-1712781000@elfilodorado.com
SUMMARY:Yoga Vinyasa
DESCRIPTION:
URL:https://elfilodorado.com/taller/yoga-vinyasa-14
LOCATION:ELFILODORADO\, Avenida Alcalde García Acien\, 88\, El Ejido (Almería)\, almeria\, 04700\, Spain
END:VEVENT
BEGIN:VEVENT
DTSTART;TZID=Europe/Helsinki:20240408T193000
DTEND;TZID=Europe/Helsinki:20240408T203000
DTSTAMP:20260422T181705
CREATED:20240402T121247Z
LAST-MODIFIED:20240402T121247Z
UID:2926-1712604600-1712608200@elfilodorado.com
SUMMARY:yoga vinyasa
DESCRIPTION:
URL:https://elfilodorado.com/taller/yoga-vinyasa-13
LOCATION:ELFILODORADO\, Avenida Alcalde García Acien\, 88\, El Ejido (Almería)\, almeria\, 04700\, Spain
END:VEVENT
BEGIN:VEVENT
DTSTART;TZID=Europe/Paris:20240407T100000
DTEND;TZID=Europe/Paris:20240407T193000
DTSTAMP:20260422T181705
CREATED:20240319T111351Z
LAST-MODIFIED:20240319T111351Z
UID:2900-1712484000-1712518200@elfilodorado.com
SUMMARY:Formación Terapia con Péndulo
DESCRIPTION:Formación intensiva 8h.\n🪷Terapia con péndulo completo.\nEn este curso aprenderás la manera de remover energía sutiles y cortar votos y contratos energéticos\, magia negra\, energías discordantes\, traumas y constelaciones que generan programas. Se moverán energías de vidas pasadas\, como también de la presente\, trayendo consciencia y autoconocimiento.\nLa sanación con péndulo es una herramienta de empoderamiento que te permitirá de manera consciente liberarte en el día a día y así poder sentirte pleno en el presente.\nHerramienta para sanarte a ti y a otras personas\, ya sea de forma presencial o a distancia. \n🌸 ¿QUÉ APRENDERAS?\n– Qué es el péndulo\, de que está compuesta una sanación con péndulo.\n– Trabajaremos con más de 15 gráficos.\n– Bono adicional péndulo y cristaloterapia.\n– Gráfico extra para recrear remedios homeopáticos. \n✨ Último día para inscribirse 1 de abril. \n📝 Domingo 7 Abril\nDe 10h a 14h y de 15:30h a 19:30h.
URL:https://elfilodorado.com/taller/formacion-terapia-con-pendulo
LOCATION:ELFILODORADO\, Avenida Alcalde García Acien\, 88\, El Ejido (Almería)\, almeria\, 04700\, Spain
END:VEVENT
BEGIN:VEVENT
DTSTART;TZID=Europe/Helsinki:20240403T193000
DTEND;TZID=Europe/Helsinki:20240403T203000
DTSTAMP:20260422T181705
CREATED:20240402T121019Z
LAST-MODIFIED:20240402T121019Z
UID:2924-1712172600-1712176200@elfilodorado.com
SUMMARY:Yoga Vinyasa
DESCRIPTION:
URL:https://elfilodorado.com/taller/yoga-vinyasa-12
LOCATION:almeria
END:VEVENT
BEGIN:VEVENT
DTSTART;TZID=Europe/Paris:20240327T193000
DTEND;TZID=Europe/Paris:20240327T203000
DTSTAMP:20260422T181705
CREATED:20240319T113557Z
LAST-MODIFIED:20240319T113557Z
UID:2908-1711567800-1711571400@elfilodorado.com
SUMMARY:Yoga Vinyasa
DESCRIPTION:
URL:https://elfilodorado.com/taller/yoga-vinyasa-11
LOCATION:ELFILODORADO\, Avenida Alcalde García Acien\, 88\, El Ejido (Almería)\, almeria\, 04700\, Spain
END:VEVENT
BEGIN:VEVENT
DTSTART;TZID=Europe/Paris:20240327T173000
DTEND;TZID=Europe/Paris:20240327T190000
DTSTAMP:20260422T181705
CREATED:20240319T114328Z
LAST-MODIFIED:20240319T114328Z
UID:2914-1711560600-1711566000@elfilodorado.com
SUMMARY:Introducción a la Aromaterapia.
DESCRIPTION:
URL:https://elfilodorado.com/taller/introduccion-a-la-aromaterapia-3
LOCATION:ELFILODORADO\, Avenida Alcalde García Acien\, 88\, El Ejido (Almería)\, almeria\, 04700\, Spain
END:VEVENT
BEGIN:VEVENT
DTSTART;TZID=Europe/Paris:20240325T193000
DTEND;TZID=Europe/Paris:20240325T203000
DTSTAMP:20260422T181705
CREATED:20240319T113046Z
LAST-MODIFIED:20240319T113046Z
UID:2906-1711395000-1711398600@elfilodorado.com
SUMMARY:Yoga Vinyasa
DESCRIPTION:
URL:https://elfilodorado.com/taller/yoga-vinyasa-10
LOCATION:ELFILODORADO\, Avenida Alcalde García Acien\, 88\, El Ejido (Almería)\, almeria\, 04700\, Spain
END:VEVENT
BEGIN:VEVENT
DTSTART;TZID=Europe/Paris:20240322T173000
DTEND;TZID=Europe/Paris:20240322T190000
DTSTAMP:20260422T181705
CREATED:20240319T114022Z
LAST-MODIFIED:20240319T114153Z
UID:2910-1711128600-1711134000@elfilodorado.com
SUMMARY:Introducción a la Aromaterapia
DESCRIPTION:¿Qué aprenderás en este taller?\n1 – Qué es un aceite esencial.\n2- Tres usos.\n3- Tres aspectos fundamentales.\n4- Criterios para elegir un aceite esencial de calidad.\n5- Conocimiento básico de 10 aceites esenciales para nuestra rutina diaria.\n🪷 Además por asistir recibirás un eBOOK de 100 usos de los aceites esenciales. \nCentro BioMar. Calle Galera\, 6. Almerimar.
URL:https://elfilodorado.com/taller/introduccion-a-la-aromaterapia-2
LOCATION:almeria
END:VEVENT
END:VCALENDAR